BEGIN:VCALENDAR
VERSION:2.0
PRODID:-//VSA-AAS - ECPv6.15.20//NONSGML v1.0//EN
CALSCALE:GREGORIAN
METHOD:PUBLISH
X-ORIGINAL-URL:https://vsa-aas.ch
X-WR-CALDESC:Veranstaltungen für VSA-AAS
REFRESH-INTERVAL;VALUE=DURATION:PT1H
X-Robots-Tag:noindex
X-PUBLISHED-TTL:PT1H
BEGIN:VTIMEZONE
TZID:Europe/Zurich
BEGIN:DAYLIGHT
TZOFFSETFROM:+0100
TZOFFSETTO:+0200
TZNAME:CEST
DTSTART:20250330T010000
END:DAYLIGHT
BEGIN:STANDARD
TZOFFSETFROM:+0200
TZOFFSETTO:+0100
TZNAME:CET
DTSTART:20251026T010000
END:STANDARD
BEGIN:DAYLIGHT
TZOFFSETFROM:+0100
TZOFFSETTO:+0200
TZNAME:CEST
DTSTART:20260329T010000
END:DAYLIGHT
BEGIN:STANDARD
TZOFFSETFROM:+0200
TZOFFSETTO:+0100
TZNAME:CET
DTSTART:20261025T010000
END:STANDARD
BEGIN:DAYLIGHT
TZOFFSETFROM:+0100
TZOFFSETTO:+0200
TZNAME:CEST
DTSTART:20270328T010000
END:DAYLIGHT
BEGIN:STANDARD
TZOFFSETFROM:+0200
TZOFFSETTO:+0100
TZNAME:CET
DTSTART:20271031T010000
END:STANDARD
END:VTIMEZONE
BEGIN:VEVENT
DTSTART;TZID=Europe/Zurich:20260611T090000
DTEND;TZID=Europe/Zurich:20260611T160000
DTSTAMP:20260420T061813
CREATED:20260216T151932Z
LAST-MODIFIED:20260306T092349Z
UID:72836-1781168400-1781193600@vsa-aas.ch
SUMMARY:Zyklus Archivpraxis\, Modul 2
DESCRIPTION:Übernahme und Vermittlung von Privatarchiven: Erfahrungen und best practices \nOrganisation: Bibliothèque de Genève / Archives d’Etat du Valais \nOrt: Staatsarchiv des Kantons Bern / Archives d’Etat de Berne\, Falkenplatz 4\, 3001 Berne \nDetailliertes Programm\, Modul 2 \nAnmeldefrist: 30.03.2026
URL:https://vsa-aas.ch/event/zyklus-archivpraxis-modul-2/
CATEGORIES:Zyklus
END:VEVENT
BEGIN:VEVENT
DTSTART;TZID=Europe/Zurich:20260618T090000
DTEND;TZID=Europe/Zurich:20260618T164500
DTSTAMP:20260420T061813
CREATED:20260216T153411Z
LAST-MODIFIED:20260306T092411Z
UID:72850-1781773200-1781801100@vsa-aas.ch
SUMMARY:Zyklus Archivpraxis\, Modul 3
DESCRIPTION:Archivpräsentationen\, Führungen\, Ausstellungen\, Blogs – Vermittlungsangebote konzipieren und kommunizieren \nOrganisation: ETH Zürich\, Archiv für Zeitgeschichte\, ETH-Bibliothek \nOrt: ETH Zürich\, Archiv für Zeitgeschichte\, Hirschengraben 62\, 8001 Zürich\, Seminarsaal H 5 \nDetailliertes Programm\, Modul 3 \nAnmeldefrist: 30.03.2026
URL:https://vsa-aas.ch/event/zyklus-archivpraxis-modul-3-3/
CATEGORIES:Zyklus
END:VEVENT
END:VCALENDAR