BEGIN:VCALENDAR
VERSION:2.0
PRODID:-//VSA-AAS - ECPv6.15.20//NONSGML v1.0//EN
CALSCALE:GREGORIAN
METHOD:PUBLISH
X-ORIGINAL-URL:https://vsa-aas.ch/fr/
X-WR-CALDESC:Évènements pour VSA-AAS
REFRESH-INTERVAL;VALUE=DURATION:PT1H
X-Robots-Tag:noindex
X-PUBLISHED-TTL:PT1H
BEGIN:VTIMEZONE
TZID:Europe/Zurich
BEGIN:DAYLIGHT
TZOFFSETFROM:+0100
TZOFFSETTO:+0200
TZNAME:CEST
DTSTART:20250330T010000
END:DAYLIGHT
BEGIN:STANDARD
TZOFFSETFROM:+0200
TZOFFSETTO:+0100
TZNAME:CET
DTSTART:20251026T010000
END:STANDARD
BEGIN:DAYLIGHT
TZOFFSETFROM:+0100
TZOFFSETTO:+0200
TZNAME:CEST
DTSTART:20260329T010000
END:DAYLIGHT
BEGIN:STANDARD
TZOFFSETFROM:+0200
TZOFFSETTO:+0100
TZNAME:CET
DTSTART:20261025T010000
END:STANDARD
BEGIN:DAYLIGHT
TZOFFSETFROM:+0100
TZOFFSETTO:+0200
TZNAME:CEST
DTSTART:20270328T010000
END:DAYLIGHT
BEGIN:STANDARD
TZOFFSETFROM:+0200
TZOFFSETTO:+0100
TZNAME:CET
DTSTART:20271031T010000
END:STANDARD
BEGIN:DAYLIGHT
TZOFFSETFROM:+0100
TZOFFSETTO:+0200
TZNAME:CEST
DTSTART:20280326T010000
END:DAYLIGHT
BEGIN:STANDARD
TZOFFSETFROM:+0200
TZOFFSETTO:+0100
TZNAME:CET
DTSTART:20281029T010000
END:STANDARD
BEGIN:DAYLIGHT
TZOFFSETFROM:+0100
TZOFFSETTO:+0200
TZNAME:CEST
DTSTART:20290325T010000
END:DAYLIGHT
BEGIN:STANDARD
TZOFFSETFROM:+0200
TZOFFSETTO:+0100
TZNAME:CET
DTSTART:20291028T010000
END:STANDARD
BEGIN:DAYLIGHT
TZOFFSETFROM:+0100
TZOFFSETTO:+0200
TZNAME:CEST
DTSTART:20300331T010000
END:DAYLIGHT
BEGIN:STANDARD
TZOFFSETFROM:+0200
TZOFFSETTO:+0100
TZNAME:CET
DTSTART:20301027T010000
END:STANDARD
BEGIN:DAYLIGHT
TZOFFSETFROM:+0100
TZOFFSETTO:+0200
TZNAME:CEST
DTSTART:20310330T010000
END:DAYLIGHT
BEGIN:STANDARD
TZOFFSETFROM:+0200
TZOFFSETTO:+0100
TZNAME:CET
DTSTART:20311026T010000
END:STANDARD
END:VTIMEZONE
BEGIN:VTIMEZONE
TZID:Europe/Paris
BEGIN:DAYLIGHT
TZOFFSETFROM:+0100
TZOFFSETTO:+0200
TZNAME:CEST
DTSTART:20250330T010000
END:DAYLIGHT
BEGIN:STANDARD
TZOFFSETFROM:+0200
TZOFFSETTO:+0100
TZNAME:CET
DTSTART:20251026T010000
END:STANDARD
BEGIN:DAYLIGHT
TZOFFSETFROM:+0100
TZOFFSETTO:+0200
TZNAME:CEST
DTSTART:20260329T010000
END:DAYLIGHT
BEGIN:STANDARD
TZOFFSETFROM:+0200
TZOFFSETTO:+0100
TZNAME:CET
DTSTART:20261025T010000
END:STANDARD
BEGIN:DAYLIGHT
TZOFFSETFROM:+0100
TZOFFSETTO:+0200
TZNAME:CEST
DTSTART:20270328T010000
END:DAYLIGHT
BEGIN:STANDARD
TZOFFSETFROM:+0200
TZOFFSETTO:+0100
TZNAME:CET
DTSTART:20271031T010000
END:STANDARD
END:VTIMEZONE
BEGIN:VEVENT
DTSTART;TZID=Europe/Zurich:20260202T100000
DTEND;TZID=Europe/Zurich:20260602T000000
DTSTAMP:20260421T225528
CREATED:20251125T084845Z
LAST-MODIFIED:20251125T100520Z
UID:72122-1770026400-1780358400@vsa-aas.ch
SUMMARY:Ateliers : Wikidata et carte interactive du paysage archivistique suisse
DESCRIPTION:L’AAS remplace la base de données des archives sur son site par une nouvelle carte interactive recherchable\, qui documente le paysage archivistique suisse.Chaque institution est autonome pour maintenir ses propres données. Une marche à suivre simple est disponible ici : Guide Wikidata. \nAfin d’accompagner ses membres dans cette transition\, l’AAS propose des ateliers pratiques au premier semestre 2026\, en français et allemand. La participation est gratuite et les participants peuvent choisir d’y assister en présentiel ou en ligne via Teams. \nObjectifs des ateliers\n\nIntroduction à Wikidata et à ses usages dans le domaine archivistique\nCompréhension du référencement univoque et interopérable des institutions\nMise à jour des données pertinentes utilisées dans la carte interactive\nAccompagnement individuel pour répondre aux questions des participants\n\nInscription\nLa participation est gratuite\, mais l’inscription est obligatoire.Date limite d’inscription : 20 janvier 2026
URL:https://vsa-aas.ch/fr/event/ateliers-wikidata-et-carte-interactive-du-paysage-archivistique-suisse/
CATEGORIES:Formation continue
ATTACH;FMTTYPE=image/png:https://vsa-aas.ch/wp-content/uploads/2022/03/Angebote-VSA-Weitere-Angebote-der-SVA.png
END:VEVENT
BEGIN:VEVENT
DTSTART;TZID=Europe/Zurich:20260430T093000
DTEND;TZID=Europe/Zurich:20260430T163000
DTSTAMP:20260421T225528
CREATED:20260216T141133Z
LAST-MODIFIED:20260306T092532Z
UID:72820-1777541400-1777566600@vsa-aas.ch
SUMMARY:Cycle Pratique archivistique suisse\, Module 1
DESCRIPTION:Communs numériques\, données liées et archives \nOrganisation: PTT-Archiv und Fondation SAPA \nLieu: Museum für Kommunikation\, Helvetiastrasse 16\, 3005 Bern \nProgramme détaillé Module 1 \nDate limite d’inscription : 30/03/2026
URL:https://vsa-aas.ch/fr/event/zyklus-archivpraxis-modul-1/
CATEGORIES:Cycle pratique archivistique suisse
END:VEVENT
BEGIN:VEVENT
DTSTART;VALUE=DATE:20260504
DTEND;VALUE=DATE:20260509
DTSTAMP:20260421T225528
CREATED:20250702T064910Z
LAST-MODIFIED:20260212T101547Z
UID:38726-1777852800-1778284799@vsa-aas.ch
SUMMARY:Cours de base
DESCRIPTION:Le cours de base prévu du 4 au 8 mai 2026 est déjà complet. Nous serions ravis de vous inscrire sur la liste d’attente et de vous proposer une place lors du cours d’automne\, qui se déroulera du 9 au 13 novembre 2026. \nVous trouverez de plus amples informations sur les cours dans l’annonce :Annonce cours de base \nPour toute question ou pour effectuer une réservation\, merci de contacter l’adresse e-mail suivante : \nResponsable du coursAlena Blättlergrundkurs@vsa-aas.ch
URL:https://vsa-aas.ch/fr/event/cours-de-base-4/
CATEGORIES:Cours de base
ATTACH;FMTTYPE=image/png:https://vsa-aas.ch/wp-content/uploads/2022/03/Aus_Weiterbildung_Berufslehre.png
END:VEVENT
BEGIN:VEVENT
DTSTART;TZID=Europe/Zurich:20260527T080000
DTEND;TZID=Europe/Zurich:20260527T170000
DTSTAMP:20260421T225528
CREATED:20251217T080117Z
LAST-MODIFIED:20251217T080454Z
UID:72392-1779868800-1779901200@vsa-aas.ch
SUMMARY:GT Évaluation
DESCRIPTION:Réunion de la GT Évaluation
URL:https://vsa-aas.ch/fr/event/gt-evaluation/
LOCATION:St. Gallen
ATTACH;FMTTYPE=image/png:https://vsa-aas.ch/wp-content/uploads/2022/03/AG-Bewertung.png
END:VEVENT
BEGIN:VEVENT
DTSTART;TZID=Europe/Zurich:20260611T090000
DTEND;TZID=Europe/Zurich:20260611T160000
DTSTAMP:20260421T225528
CREATED:20260216T151932Z
LAST-MODIFIED:20260306T092627Z
UID:72905-1781168400-1781193600@vsa-aas.ch
SUMMARY:Cycle Pratique archivistique suisse\, Module 2
DESCRIPTION:Acquisition et valorisation des archives privées : retours d’expérience et bonnes pratiques \nOrganisation: Bibliothèque de Genève / Archives d’Etat du Valais \nLieu: Staatsarchiv des Kantons Bern / Archives d’Etat de Berne\, Falkenplatz 4\, 3001 Berne \nProgramme détaillé Module 2 \nDate limite d’inscription : 30/03/2026
URL:https://vsa-aas.ch/fr/event/zyklus-archivpraxis-modul-2/
CATEGORIES:Cycle pratique archivistique suisse
END:VEVENT
BEGIN:VEVENT
DTSTART;TZID=Europe/Zurich:20260618T090000
DTEND;TZID=Europe/Zurich:20260618T164500
DTSTAMP:20260421T225528
CREATED:20260216T153411Z
LAST-MODIFIED:20260306T092706Z
UID:72911-1781773200-1781801100@vsa-aas.ch
SUMMARY:Cycle Pratique archivistique suisse\, Module 3
DESCRIPTION:Présentations d’archives\, visites guidées\, expositions\, blogs – Concevoir et communiquer des offres de médiation \nOrganisation: ETH Zürich\, Archiv für Zeitgeschichte\, ETH-Bibliothek \nLieu: ETH Zürich\, Archiv für Zeitgeschichte\, Hirschengraben 62\, 8001 Zürich\, Seminarsaal H 5 \nProgramme détaillé Module 3 \nDate limite d’inscription : 30/03/2026
URL:https://vsa-aas.ch/fr/event/zyklus-archivpraxis-modul-3-3/
CATEGORIES:Cycle pratique archivistique suisse
END:VEVENT
BEGIN:VEVENT
DTSTART;VALUE=DATE:20260917
DTEND;VALUE=DATE:20260919
DTSTAMP:20260421T225528
CREATED:20231219T105836Z
LAST-MODIFIED:20240823T074317Z
UID:39220-1789603200-1789775999@vsa-aas.ch
SUMMARY:103e assemblée générale / journée professionelle 2026
DESCRIPTION:La 103e assemblée générale & la journée professionelle des 17 et 18 septembre 2026 auront lieu à Stans. \nPlus d’informations suivront ultérieurement.
URL:https://vsa-aas.ch/fr/event/103e-assemblee-generale-journee-professionelle-2026/
CATEGORIES:Jahresversammlung
ATTACH;FMTTYPE=image/png:https://vsa-aas.ch/wp-content/uploads/2022/03/Angebote-VSA-Weitere-Angebote-der-SVA.png
END:VEVENT
BEGIN:VEVENT
DTSTART;TZID=Europe/Zurich:20261008T090000
DTEND;TZID=Europe/Zurich:20261008T163000
DTSTAMP:20260421T225528
CREATED:20260217T075523Z
LAST-MODIFIED:20260318T073825Z
UID:72915-1791450000-1791477000@vsa-aas.ch
SUMMARY:Cycle Pratique archivistique suisse\, Module 4 Module complet
DESCRIPTION:Archiver le numérique : état des lieux et perspectives (Module complet) \nOrganisation: Archives de l’Etat de Fribourg \nLieu: Route des Arsenaux 17\, 1700 Fribourg \nProgramme détaillé Module 4
URL:https://vsa-aas.ch/fr/event/cycle-pratique-archivistique-suisse-module-4-2/
CATEGORIES:Cycle pratique archivistique suisse
END:VEVENT
BEGIN:VEVENT
DTSTART;TZID=Europe/Zurich:20261105T090000
DTEND;TZID=Europe/Zurich:20261105T163000
DTSTAMP:20260421T225528
CREATED:20260217T075917Z
LAST-MODIFIED:20260306T092746Z
UID:72918-1793869200-1793896200@vsa-aas.ch
SUMMARY:Cycle Pratique archivistique suisse\, Module 5
DESCRIPTION:(In-)visibilité des femmes dans les archives \nOrganisation: Archives cantonales vaudoises – Gosteli-Archiv – Dictionnaire sur l’histoire des femmes en Suisse / Lexikon zur Geschichte der Frauen* in der Schweiz \nLieu: Staatsarchiv des Kantons Bern / Archives d’Etat de Berne\, Falkenplatz 4\, 3001 Berne \nProgramme détaillé Module 5 \nDate limite d’inscription : 30/03/2026
URL:https://vsa-aas.ch/fr/event/cycle-pratique-archivistique-suisse-module-5-2/
CATEGORIES:Cycle pratique archivistique suisse
END:VEVENT
BEGIN:VEVENT
DTSTART;VALUE=DATE:20261109
DTEND;VALUE=DATE:20261114
DTSTAMP:20260421T225528
CREATED:20250702T074624Z
LAST-MODIFIED:20251121T082221Z
UID:35588-1794182400-1794614399@vsa-aas.ch
SUMMARY:Cours de base
DESCRIPTION:Le prochain cours de base aura lieu du 9 au 13 novembre 2026. \nVous trouverez des informations plus détaillées sur les cours dans l’annonce :Annonce course de base \nPour toute question concernant le cours ou pour effectuer une réservation\, veuillez contacter l’adresse e-mail suivante : \nResponsable du coursSabine Strebelgrundkurs@vsa-aas.ch
URL:https://vsa-aas.ch/fr/event/cours-de-base-3/
CATEGORIES:Cours de base
ATTACH;FMTTYPE=image/png:https://vsa-aas.ch/wp-content/uploads/2022/03/Grundkurs.png
END:VEVENT
BEGIN:VEVENT
DTSTART;TZID=Europe/Zurich:20261118T080000
DTEND;TZID=Europe/Zurich:20261118T170000
DTSTAMP:20260421T225528
CREATED:20251217T080735Z
LAST-MODIFIED:20251217T080837Z
UID:72402-1794988800-1795021200@vsa-aas.ch
SUMMARY:GT Évaluation
DESCRIPTION:Réunion de la GT Évaluation
URL:https://vsa-aas.ch/fr/event/gt-evaluation-3/
LOCATION:Bern
ATTACH;FMTTYPE=image/png:https://vsa-aas.ch/wp-content/uploads/2022/03/AG-Bewertung.png
END:VEVENT
BEGIN:VEVENT
DTSTART;VALUE=DATE:20270916
DTEND;VALUE=DATE:20270918
DTSTAMP:20260421T225528
CREATED:20240105T073331Z
LAST-MODIFIED:20240823T074703Z
UID:39368-1821052800-1821225599@vsa-aas.ch
SUMMARY:104e assemblée générale / journée professionelle 2027
DESCRIPTION:La 104e assemblée générale & la journée professionelle des 16 et 17 septembre 2027 auront lieu à Genève. \nPlus d’informations suivront ultérieurement.
URL:https://vsa-aas.ch/fr/event/104e-assemblee-generale-journee-professionelle-2027/
CATEGORIES:Jahresversammlung
ATTACH;FMTTYPE=image/png:https://vsa-aas.ch/wp-content/uploads/2022/03/Angebote-VSA-Weitere-Angebote-der-SVA.png
END:VEVENT
BEGIN:VEVENT
DTSTART;VALUE=DATE:20280914
DTEND;VALUE=DATE:20280916
DTSTAMP:20260421T225528
CREATED:20240105T074435Z
LAST-MODIFIED:20240823T074457Z
UID:39374-1852502400-1852675199@vsa-aas.ch
SUMMARY:105e assemblée générale / journée professionelle 2028
DESCRIPTION:La 105e assemblée générale & la journée professionelle des 14 et 15 septembre 2028 auront lieu à Soleure. \nPlus d’informations suivront ultérieurement.
URL:https://vsa-aas.ch/fr/event/105e-assemblee-generale-journee-professionelle-2028/
CATEGORIES:Jahresversammlung
ATTACH;FMTTYPE=image/png:https://vsa-aas.ch/wp-content/uploads/2022/03/Angebote-VSA-Weitere-Angebote-der-SVA.png
END:VEVENT
BEGIN:VEVENT
DTSTART;VALUE=DATE:20290913
DTEND;VALUE=DATE:20290915
DTSTAMP:20260421T225528
CREATED:20240105T074836Z
LAST-MODIFIED:20240105T075052Z
UID:39381-1883952000-1884124799@vsa-aas.ch
SUMMARY:106e assemblée générale / journée professionelle 2029
DESCRIPTION:Plus d’informations suivront ultérieurement.
URL:https://vsa-aas.ch/fr/event/106e-assemblee-generale-journee-professionelle-2029/
CATEGORIES:Jahresversammlung
ATTACH;FMTTYPE=image/png:https://vsa-aas.ch/wp-content/uploads/2022/03/Angebote-VSA-Weitere-Angebote-der-SVA.png
END:VEVENT
BEGIN:VEVENT
DTSTART;VALUE=DATE:20300912
DTEND;VALUE=DATE:20300914
DTSTAMP:20260421T225528
CREATED:20240105T075434Z
LAST-MODIFIED:20240105T075645Z
UID:39388-1915401600-1915574399@vsa-aas.ch
SUMMARY:107e assemblée générale / journée professionelle 2030
DESCRIPTION:Plus d’informations suivront ultérieurement.
URL:https://vsa-aas.ch/fr/event/107e-assemblee-generale-journee-professionelle-2030/
CATEGORIES:Jahresversammlung
ATTACH;FMTTYPE=image/png:https://vsa-aas.ch/wp-content/uploads/2022/03/Angebote-VSA-Weitere-Angebote-der-SVA.png
END:VEVENT
END:VCALENDAR