BEGIN:VCALENDAR
VERSION:2.0
PRODID:-//VSA-AAS - ECPv6.15.20//NONSGML v1.0//EN
CALSCALE:GREGORIAN
METHOD:PUBLISH
X-ORIGINAL-URL:https://vsa-aas.ch/fr/
X-WR-CALDESC:Évènements pour VSA-AAS
REFRESH-INTERVAL;VALUE=DURATION:PT1H
X-Robots-Tag:noindex
X-PUBLISHED-TTL:PT1H
BEGIN:VTIMEZONE
TZID:Europe/Zurich
BEGIN:DAYLIGHT
TZOFFSETFROM:+0100
TZOFFSETTO:+0200
TZNAME:CEST
DTSTART:20240331T010000
END:DAYLIGHT
BEGIN:STANDARD
TZOFFSETFROM:+0200
TZOFFSETTO:+0100
TZNAME:CET
DTSTART:20241027T010000
END:STANDARD
BEGIN:DAYLIGHT
TZOFFSETFROM:+0100
TZOFFSETTO:+0200
TZNAME:CEST
DTSTART:20250330T010000
END:DAYLIGHT
BEGIN:STANDARD
TZOFFSETFROM:+0200
TZOFFSETTO:+0100
TZNAME:CET
DTSTART:20251026T010000
END:STANDARD
BEGIN:DAYLIGHT
TZOFFSETFROM:+0100
TZOFFSETTO:+0200
TZNAME:CEST
DTSTART:20260329T010000
END:DAYLIGHT
BEGIN:STANDARD
TZOFFSETFROM:+0200
TZOFFSETTO:+0100
TZNAME:CET
DTSTART:20261025T010000
END:STANDARD
END:VTIMEZONE
BEGIN:VEVENT
DTSTART;VALUE=DATE:20250912
DTEND;VALUE=DATE:20251024
DTSTAMP:20260422T110935
CREATED:20250625T064829Z
LAST-MODIFIED:20250710T082453Z
UID:59059-1757635200-1761263999@vsa-aas.ch
SUMMARY:Formation continue « Pratique des archives d’entreprise » : L'IA dans les archives d'entreprise
DESCRIPTION:Le groupe de travail Archives d’entreprises privées de l’AAS organise à partir de vendredi 12 septembre 2025 le prochain cours de formation continue de la série « pratique des archives d’entreprise » : L’IA dans les archives d’entreprise – Bases et applications. \nPour plus d’informations sur le programme\, veuillez consulter le PDF.
URL:https://vsa-aas.ch/fr/event/formation-continue-pratique-des-archives-dentreprise-lia-dans-les-archives-dentreprise/
LOCATION:Archives fédérales suisses\, Archivstrasse 24\, Berne
CATEGORIES:Formation continue
ATTACH;FMTTYPE=image/png:https://vsa-aas.ch/wp-content/uploads/2022/03/AG-Archive-der-privaten-Wirtschaft.png
END:VEVENT
END:VCALENDAR